BEGIN:VCALENDAR
VERSION:2.0
PRODID:-//Enzian Höhenrain - ECPv6.15.20//NONSGML v1.0//EN
CALSCALE:GREGORIAN
METHOD:PUBLISH
X-ORIGINAL-URL:https://xn--enzian-hhenrain-gtb.de
X-WR-CALDESC:Veranstaltungen für Enzian Höhenrain
REFRESH-INTERVAL;VALUE=DURATION:PT1H
X-Robots-Tag:noindex
X-PUBLISHED-TTL:PT1H
BEGIN:VTIMEZONE
TZID:Europe/Berlin
BEGIN:DAYLIGHT
TZOFFSETFROM:+0100
TZOFFSETTO:+0200
TZNAME:CEST
DTSTART:20220327T010000
END:DAYLIGHT
BEGIN:STANDARD
TZOFFSETFROM:+0200
TZOFFSETTO:+0100
TZNAME:CET
DTSTART:20221030T010000
END:STANDARD
BEGIN:DAYLIGHT
TZOFFSETFROM:+0100
TZOFFSETTO:+0200
TZNAME:CEST
DTSTART:20230326T010000
END:DAYLIGHT
BEGIN:STANDARD
TZOFFSETFROM:+0200
TZOFFSETTO:+0100
TZNAME:CET
DTSTART:20231029T010000
END:STANDARD
BEGIN:DAYLIGHT
TZOFFSETFROM:+0100
TZOFFSETTO:+0200
TZNAME:CEST
DTSTART:20240331T010000
END:DAYLIGHT
BEGIN:STANDARD
TZOFFSETFROM:+0200
TZOFFSETTO:+0100
TZNAME:CET
DTSTART:20241027T010000
END:STANDARD
END:VTIMEZONE
BEGIN:VEVENT
DTSTART;TZID=Europe/Berlin:20230715T110000
DTEND;TZID=Europe/Berlin:20230715T230000
DTSTAMP:20260424T152345
CREATED:20230708T121632Z
LAST-MODIFIED:20230708T121632Z
UID:314-1689418800-1689462000@xn--enzian-hhenrain-gtb.de
SUMMARY:75 Jahre FSV Höhenrain
DESCRIPTION:Fußballturnier der Ortsvereine ab 11.00 Uhr (die Enzian-Schützen sind nicht dabei\, aber Zuschauer sind herzlich willkommen) \nanschl. Preisverteilung und Feier mit „Double Happiness“ im FSV- Sportheim
URL:https://xn--enzian-hhenrain-gtb.de/event/75-jahre-fsv-hoehenrain-2
END:VEVENT
BEGIN:VEVENT
DTSTART;TZID=Europe/Berlin:20230716T090000
DTEND;TZID=Europe/Berlin:20230716T170000
DTSTAMP:20260424T152345
CREATED:20230708T121103Z
LAST-MODIFIED:20230708T121103Z
UID:310-1689498000-1689526800@xn--enzian-hhenrain-gtb.de
SUMMARY:75 Jahre FSV Höhenrain
DESCRIPTION:9.00 Uhr Treffpunkt beim Fußballplatz in Höhenrain \n10.00 Uhr Festgottesdienst\, anschl. Jubiläumsfeier
URL:https://xn--enzian-hhenrain-gtb.de/event/75-jahre-fsv-hoehenrain
END:VEVENT
BEGIN:VEVENT
DTSTART;TZID=Europe/Berlin:20230722T180000
DTEND;TZID=Europe/Berlin:20230722T233000
DTSTAMP:20260424T152345
CREATED:20230708T121803Z
LAST-MODIFIED:20230708T121803Z
UID:316-1690048800-1690068600@xn--enzian-hhenrain-gtb.de
SUMMARY:Grillfest beim Friedrich ab 18.00 Uhr
DESCRIPTION:
URL:https://xn--enzian-hhenrain-gtb.de/event/grillfest-beim-friedrich-ab-18-00-uhr
LOCATION:Friedrich-Stadl in Höhenrain
END:VEVENT
END:VCALENDAR