BEGIN:VCALENDAR
VERSION:2.0
PRODID:-//Enzian Höhenrain - ECPv6.15.20//NONSGML v1.0//EN
CALSCALE:GREGORIAN
METHOD:PUBLISH
X-WR-CALNAME:Enzian Höhenrain
X-ORIGINAL-URL:https://xn--enzian-hhenrain-gtb.de
X-WR-CALDESC:Veranstaltungen für Enzian Höhenrain
REFRESH-INTERVAL;VALUE=DURATION:PT1H
X-Robots-Tag:noindex
X-PUBLISHED-TTL:PT1H
BEGIN:VTIMEZONE
TZID:Europe/Berlin
BEGIN:DAYLIGHT
TZOFFSETFROM:+0100
TZOFFSETTO:+0200
TZNAME:CEST
DTSTART:20220327T010000
END:DAYLIGHT
BEGIN:STANDARD
TZOFFSETFROM:+0200
TZOFFSETTO:+0100
TZNAME:CET
DTSTART:20221030T010000
END:STANDARD
BEGIN:DAYLIGHT
TZOFFSETFROM:+0100
TZOFFSETTO:+0200
TZNAME:CEST
DTSTART:20230326T010000
END:DAYLIGHT
BEGIN:STANDARD
TZOFFSETFROM:+0200
TZOFFSETTO:+0100
TZNAME:CET
DTSTART:20231029T010000
END:STANDARD
BEGIN:DAYLIGHT
TZOFFSETFROM:+0100
TZOFFSETTO:+0200
TZNAME:CEST
DTSTART:20240331T010000
END:DAYLIGHT
BEGIN:STANDARD
TZOFFSETFROM:+0200
TZOFFSETTO:+0100
TZNAME:CET
DTSTART:20241027T010000
END:STANDARD
END:VTIMEZONE
BEGIN:VEVENT
DTSTART;TZID=Europe/Berlin:20231212T180000
DTEND;TZID=Europe/Berlin:20231212T210000
DTSTAMP:20260420T035615
CREATED:20230708T123144Z
LAST-MODIFIED:20230708T123144Z
UID:334-1702404000-1702414800@xn--enzian-hhenrain-gtb.de
SUMMARY:Endschießen
DESCRIPTION:
URL:https://xn--enzian-hhenrain-gtb.de/event/endschiessen-3
LOCATION:Schießstand Münsing
END:VEVENT
BEGIN:VEVENT
DTSTART;TZID=Europe/Berlin:20231213T180000
DTEND;TZID=Europe/Berlin:20231213T210000
DTSTAMP:20260420T035615
CREATED:20230708T123542Z
LAST-MODIFIED:20230708T123542Z
UID:336-1702490400-1702501200@xn--enzian-hhenrain-gtb.de
SUMMARY:Endschießen
DESCRIPTION:
URL:https://xn--enzian-hhenrain-gtb.de/event/endschiessen-4
LOCATION:Schießstand Münsing
END:VEVENT
BEGIN:VEVENT
DTSTART;TZID=Europe/Berlin:20231215T190000
DTEND;TZID=Europe/Berlin:20231215T220000
DTSTAMP:20260420T035615
CREATED:20231129T181515Z
LAST-MODIFIED:20231129T181515Z
UID:354-1702666800-1702677600@xn--enzian-hhenrain-gtb.de
SUMMARY:Königsfeier beim Alten Wirt
DESCRIPTION:
URL:https://xn--enzian-hhenrain-gtb.de/event/koenigsfeier-beim-alten-wirt
LOCATION:Alter Wirt\, Höhenrain
END:VEVENT
END:VCALENDAR